BEGIN:VCALENDAR
VERSION:2.0
PRODID:-//Canadian Nuclear Society - CNS - ECPv6.15.20//NONSGML v1.0//EN
CALSCALE:GREGORIAN
METHOD:PUBLISH
X-ORIGINAL-URL:http://15.223.132.57
X-WR-CALDESC:Events for Canadian Nuclear Society - CNS
REFRESH-INTERVAL;VALUE=DURATION:PT1H
X-Robots-Tag:noindex
X-PUBLISHED-TTL:PT1H
BEGIN:VTIMEZONE
TZID:UTC
BEGIN:STANDARD
TZOFFSETFROM:+0000
TZOFFSETTO:+0000
TZNAME:UTC
DTSTART:20150101T000000
END:STANDARD
END:VTIMEZONE
BEGIN:VEVENT
DTSTART;TZID=UTC:20160822T000000
DTEND;TZID=UTC:20160825T000000
DTSTAMP:20260420T133429
CREATED:20211217T173509Z
LAST-MODIFIED:20211229T230715Z
UID:938-1471824000-1472083200@15.223.132.57
SUMMARY:TOFE-2016
DESCRIPTION:The 22nd Topical Meeting on the Technology of Fusion Energy (TOFE 2016) will continue the tradition of stand-alone topical meetings originated in the early 1970’s\, continued through the 80’s\, and re-established in the year 2000. The scope of the TOFE meeting is to provide a forum for sharing the exciting new progress that has been made in fusion research as well as presenting the future of national and worldwide fusion program. The TOFE meetings typically draw scientists\, engineers\, and students from various countries\, including representation from the US\, Japan\, Europe\, Russian Federation\, Canada\, China\, and Korea.
URL:http://15.223.132.57/event/tofe-2016/
CATEGORIES:Past Events
END:VEVENT
END:VCALENDAR