BEGIN:VCALENDAR
VERSION:2.0
PRODID:-//Canadian Nuclear Society - CNS - ECPv6.15.20//NONSGML v1.0//EN
CALSCALE:GREGORIAN
METHOD:PUBLISH
X-ORIGINAL-URL:http://15.223.132.57
X-WR-CALDESC:Events for Canadian Nuclear Society - CNS
REFRESH-INTERVAL;VALUE=DURATION:PT1H
X-Robots-Tag:noindex
X-PUBLISHED-TTL:PT1H
BEGIN:VTIMEZONE
TZID:UTC
BEGIN:STANDARD
TZOFFSETFROM:+0000
TZOFFSETTO:+0000
TZNAME:UTC
DTSTART:20150101T000000
END:STANDARD
END:VTIMEZONE
BEGIN:VEVENT
DTSTART;TZID=UTC:20160619T000000
DTEND;TZID=UTC:20160622T000000
DTSTAMP:20260421T095023
CREATED:20211217T173128Z
LAST-MODIFIED:20211229T230715Z
UID:930-1466294400-1466553600@15.223.132.57
SUMMARY:36th CNS Annual Conference and 40th CNS/CNA Student Conference
DESCRIPTION:Nuclear in the 21st Century: Global Directions and Canada’s Role\nLe Nucléaire au 21e siècle: Directions mondiales et le rôle du Canada\n2016 June 19-22\nToronto Marriott Downtown Eaton Centre Hotel\, Toronto\, ON\, Canada\n\nFor the official Call for Papers click here (PDF) \nTechnical Paper Submission Guidelines\n\nPaper abstracts should be < 150 words in length (Abstract template).\nFull papers (Paper template) should present facts that are new and significant or represent a state-of-the-art review. They should include enough information for a clear presentation of the topic.\n\nTechnical Paper Submission Procedure\nThe required format of submission is electronic (Word or pdf). Submissions should be made via:https://www.softconf.com/h/CNS2016Technical \nTo help with planning\, authors should log onto the electronic submission system and input the title\, author(s)\, and affiliation(s) of their planned paper even before making the full submission.  \nImportant Dates\n\nAbstract submission: 2015 December 07 (Extended)\nDraft paper submission: 2016 January 04\nFull paper submission: 2016 April 15\n\n  \nPaper Submission Procedure for Students\nThe required format of submission is electronic (Word or pdf). Submissions should be made via:https://www.softconf.com/h/CNS2016Students \nTo help with planning\, authors should log onto the electronic submission system and input the title\, author(s)\, and affiliation(s) of their planned paper even before making the full submission.  \n \n 
URL:http://15.223.132.57/event/36th-cns-annual-conference-and-40th-cns-cna-student-conference/
CATEGORIES:Past Events
END:VEVENT
END:VCALENDAR