BEGIN:VCALENDAR
VERSION:2.0
PRODID:-//Canadian Nuclear Society - CNS - ECPv6.15.20//NONSGML v1.0//EN
CALSCALE:GREGORIAN
METHOD:PUBLISH
X-ORIGINAL-URL:http://15.223.132.57
X-WR-CALDESC:Events for Canadian Nuclear Society - CNS
REFRESH-INTERVAL;VALUE=DURATION:PT1H
X-Robots-Tag:noindex
X-PUBLISHED-TTL:PT1H
BEGIN:VTIMEZONE
TZID:UTC
BEGIN:STANDARD
TZOFFSETFROM:+0000
TZOFFSETTO:+0000
TZNAME:UTC
DTSTART:20150101T000000
END:STANDARD
END:VTIMEZONE
BEGIN:VEVENT
DTSTART;TZID=UTC:20160516T000000
DTEND;TZID=UTC:20160517T000000
DTSTAMP:20260421T201527
CREATED:20211217T173509Z
LAST-MODIFIED:20211229T230715Z
UID:940-1463356800-1463443200@15.223.132.57
SUMMARY:Nuclear-101
DESCRIPTION:Everything you wanted to know about nuclear technology and were afraid they’d ask!\n2016 May 16-17Toronto\, OntarioFairfield Inn & Suites Toronto Airport\n\nCourse Flyer\nClick here for the course flyer. \nCourse Agenda\nClick here for the course agenda \nCourse Background\nThe two-day Nuclear-101 course is specifically designed for individuals (including students) within the nuclear community (with or without a technical background) who find themselves interacting with the public. The course will provide you with a good understanding of nuclear and energy fundamentals\, along with the tools to explain to others in simple\, factual terms how the technology works\, some of the interesting twists and turns of its exciting history\, and the important contribution nuclear science and technology makes to our society.The course will be taught by three of Canada’s leading nuclear educators\, Doug Boreham\, Benjamin Rouben and Jeremy Whitlock. It will consist of three modules\, and will include demonstrations\, Q&A\, and a discussion of each module’s relevance to public outreach: \n\nEnergy and the Nuclear Fuel Cycle\nFacts\, Myths\, and Historical Review of the Nuclear Industry\nHealth Risks of Radiation\n\n\nWho should register\n\nAnyone in the nuclear community who regularly speaks to the public (or is interested in speaking to the public) and would like to be able to explain nuclear technology in simple\, factual terms.\nAnyone who has ever been asked “difficult” questions about the past\, present\, and future of the industry – and wishes he/she knew the answer.\nAnyone who would like to broaden his/her knowledge about Canadian nuclear science and technology: its history\, current status and future potential.\n\n\nHow to register\nThis outreach course is being offered by the Canadian Nuclear Society (CNS). Click here to register online. The cost of the 2-day course is $495 (HST included)\, and will cover all materials. Full-time university students may register at a discounted rate of $300 (HST included). Register early to avoid disappointment. Course registration deadline: 2016 May 10. \n  \nVenue and Accommodations\nThe course will be held at the Fairfield Inn & Suites Toronto Airport\, 3299 Caroga Drive\, Mississauga\, ON\, L4V 1A3. Guestrooms within the CNS block may be reserved via a dedicated webpage; the link to this dedicated webpage is on the course website. Also\, you may call the hotel at 905-673-9800 and request the rate for the Canadian Nuclear Society course. The last day to book using the special rate in the CNS block is 2016 May 9. The Fairfield Inn and Suites has a shuttle service to Toronto Airport; the shuttle runs 24 hours with pick-up at each terminal every 30 minutes. \n  \nSponsored By\n \n \n 
URL:http://15.223.132.57/event/nuclear-101-7/
CATEGORIES:Past Events
END:VEVENT
END:VCALENDAR